BEGIN:VCALENDAR
METHOD:PUBLISH
VERSION:2.0
PRODID:-//WoltLab GmbH//WoltLab Suite Calendar 5.4//EN
CALSCALE:GREGORIAN
X-WR-CALNAME;VALUE=TEXT:Renesse II / 2020 - 24.09.-27.09.2020
BEGIN:VEVENT
TRANSP:OPAQUE
UID:event-607@www.drachenforum.net
URL:https://www.drachenforum.net/termine/event/5710-renesse-ii-2020-24-09-2
 7-09-2020/
DTSTART:20200623T074100Z
DTSTAMP:20200623T074100Z
CREATED:20200623T074100Z
SUMMARY:Renesse II / 2020 - 24.09.-27.09.2020
DESCRIPTION:Nach einer kurzen intensiven Vorbefragung des Orakels und der B
 laubärhöhlenbewohner anbei nun der Termin für Renesse II / 2020  \nNach dem
  Ausfall von Renesse I extra ein wärmerer Termin für die alten Herren   :sa
 int:  \nEs kann gebucht werden... \n\nFange mal mit der Liste an:\n\nBlaubä
 r\nHeinzKetchup\nLexat\nFred99\nCheetah\nSpeedkiter\nDominiknz\nStezig\nIsi
 
LOCATION:Brouwersdam 20\, 3253 MH Ouddorp\, Niederlande
GEO:51.7633209;3.8522751
DTEND:20200623T084100Z
END:VEVENT
END:VCALENDAR
