BEGIN:VCALENDAR
METHOD:PUBLISH
VERSION:2.0
PRODID:-//WoltLab GmbH//WoltLab Suite Calendar 5.4//EN
CALSCALE:GREGORIAN
X-WR-CALNAME;VALUE=TEXT:Schöninger Drachenfest
BEGIN:VEVENT
TRANSP:TRANSPARENT
UID:event-542@www.drachenforum.net
URL:https://www.drachenforum.net/termine/event/5635-sch%C3%B6ninger-drachen
 fest/
DTSTART;VALUE=DATE:20190623
DTSTAMP:20190623T000000Z
CREATED:20190623T000000Z
SUMMARY:Schöninger Drachenfest
DESCRIPTION:Hallo liebe Drachenflieger [URL:https://www.drachenforum.net/le
 xikon/index.php/Entry/139-Drachenflieger/]\,\nauch in diesem Jahr findet wi
 eder das beliebte Schöninger Drachenfest [URL:https://www.drachenforum.net/
 lexikon/index.php/Entry/141-Drachenfest/?synonym=206] statt. Am Sonntag\, d
 en 23. Juni 2019 seid Ihr eingeladen mit euren Drachen [URL:https://www.dra
 chenforum.net/lexikon/index.php/Entry/134-Drachen/] den Himmel über Schönin
 gen farbenfroh zu gestalten. Wie schon in den letzten Jahren lassen wir die
  Drachen auf dem weitläufigen Gelände rund um das Paläon steigen. Es ist au
 ch möglich schon am Samstag anzureisen und vor Ort sein Lager aufzuschlagen
 . Wir freuen uns auf euch.  Eva-Maria
LOCATION:Paläon 1\, 38364 Schöningen\, Deutschland
GEO:52.1295204;10.9924212
DTEND;VALUE=DATE:20190624
RRULE:FREQ=DAILY;INTERVAL=1;WKST=MO;UNTIL=20190623
CATEGORIES:am Paläon
END:VEVENT
END:VCALENDAR
