BEGIN:VCALENDAR
METHOD:PUBLISH
VERSION:2.0
PRODID:-//WoltLab GmbH//WoltLab Suite Calendar 5.4//EN
CALSCALE:GREGORIAN
X-WR-CALNAME;VALUE=TEXT:Drachenfest Münsingen
BEGIN:VEVENT
TRANSP:OPAQUE
UID:event-480@www.drachenforum.net
URL:https://www.drachenforum.net/termine/event/5572-drachenfest-m%C3%BCnsin
 gen/
DTSTART:20181027T090000Z
DTSTAMP:20181027T090000Z
CREATED:20181027T090000Z
SUMMARY:Drachenfest Münsingen
DESCRIPTION:Die Fliegerfreunde vom Luftsportverein Eisberg und unsere Freun
 de von\nder Fliegergruppe Plochingen laden Sie zusammen mit vielen angereis
 ten\nDrachenfreunden ganz herzlich am Samstag 27. und Sonntag 28.10.2018 zu
 m\nDrachenfest ein!\n....\nhttp://www.lsvmuensingen.de/index.php/veranstalt
 ungen/drachenfest
LOCATION:Segelfluggelände Münsingen-Eisberg\, 72525 Münsingen\, Deutschland
GEO:48.408844;9.4421597
DTEND:20181028T170000Z
END:VEVENT
END:VCALENDAR
