BEGIN:VCALENDAR
METHOD:PUBLISH
VERSION:2.0
PRODID:-//WoltLab GmbH//WoltLab Suite Calendar 5.4//EN
CALSCALE:GREGORIAN
X-WR-CALNAME;VALUE=TEXT:12. Drachenfest Ostfildern
BEGIN:VEVENT
TRANSP:OPAQUE
UID:event-464@www.drachenforum.net
URL:https://www.drachenforum.net/termine/event/5556-12-drachenfest-ostfilde
 rn/
DTSTART:20181003T090000Z
DTSTAMP:20181003T090000Z
CREATED:20181003T090000Z
SUMMARY:12. Drachenfest Ostfildern
DESCRIPTION:Am 3. Oktober laden wir wieder herzlich ein zum Drachenfest in 
 die Bürgergärten im Scharnhauser Park in Ostfildern!\n\n\nIn entspannter At
 mosphäre wird ein buntes und kreatives Familienprogramm geboten.\nVerschied
 ene Flugflächen sind für Profis und Familien ausgewiesen.\n\nFrühstücksbrez
 eln für alle Profis zum Beginn sind Tradition!\n\nAlle Details auf Drachenf
 est Ostfildern [URL:http://www.ostfildern.de/drachenfest.html]\nWir freuen 
 uns!
LOCATION:Ricarda-Huch-Straße 101\, 73760 Ostfildern\, Deutschland
GEO:48.7155991;9.2649117
DTEND:20181003T160000Z
END:VEVENT
END:VCALENDAR
