BEGIN:VCALENDAR
METHOD:PUBLISH
VERSION:2.0
PRODID:-//WoltLab GmbH//WoltLab Suite Calendar 5.4//EN
CALSCALE:GREGORIAN
X-WR-CALNAME;VALUE=TEXT:Familien-Drachenfest auf dem Flugplatz Borken-Hoxfe
 ld
BEGIN:VEVENT
TRANSP:OPAQUE
UID:event-1123@www.drachenforum.net
URL:https://www.drachenforum.net/termine/event/7240-familien-drachenfest-au
 f-dem-flugplatz-borken-hoxfeld/
DTSTART:20260927T090000Z
DTSTAMP:20260927T090000Z
CREATED:20260927T090000Z
SUMMARY:Familien-Drachenfest auf dem Flugplatz Borken-Hoxfeld
DESCRIPTION:Familien-Drachenfest [URL:https://www.drachenforum.net/lexikon/
 entry/141-drachenfest/?synonym=206] auf dem Flugplatz Borken-Hoxfeld\nSonnt
 ag\, 27. September 2026\, 11:00 - 18:00 (letzter Sonntag im September)\nFlu
 gplatz Borken-Hoxfeld\, Zum Flugplatz 19\, D-46325 Borken\, Deutschland\n\n
 Kontakt für Nachfragen: drachenfest [URL:https://www.drachenforum.net/lexik
 on/entry/141-drachenfest/?synonym=206] [at] schalke05 [dot] com
DTEND:20260927T160000Z
RRULE:FREQ=YEARLY;INTERVAL=1;BYDAY=-1SU;BYMONTH=9;WKST=MO
CATEGORIES:Familien-Drachenfest,; Borken
END:VEVENT
END:VCALENDAR
