BEGIN:VCALENDAR
METHOD:PUBLISH
VERSION:2.0
PRODID:-//WoltLab GmbH//WoltLab Suite Calendar 5.4//EN
CALSCALE:GREGORIAN
X-WR-CALNAME;VALUE=TEXT:Workshop
BEGIN:VEVENT
TRANSP:OPAQUE
UID:event-279@www.drachenforum.net
URL:https://www.drachenforum.net/termine/event/4479-zukunft-des-tempelhofer
 -feldes-f%C3%BCr-kiter/
DTSTART:20160622T180000Z
DTSTAMP:20160622T180000Z
CREATED:20160622T180000Z
SUMMARY:Zukunft des Tempelhofer Feldes für Kiter
DESCRIPTION:Hallo zusammen\,\n\n\nin den letzten Monaten gab es viele Gespr
 äche von Vertretern der Windsportler mit dem Betreiber Grün Berlin zur Erhö
 hung der realen und subjektiven Sicherheit sowie zum Umweltschutz. Das Mitt
 e Mai von Grün Berlin veröffentlichte und umgesetzte Sicherheitskonzept ent
 spricht in einigen Punkten leider nicht dem\, was aus unserer eigenen Siche
 rheitsanalyse herausgekommen ist und in einem umfassenden Konzept der Winds
 portler vorgestellt worden ist. Entgegen der einschneidenden Regeln von Grü
 n Berlin für KLB und Kitebuggy sah unser Konzept mehr Selbstverantwortung d
 er Aktiven vor. Als größte Herausforderung stellten sich allerdings einige 
 wenige rücksichtslose und uneinsichtige Kiter heraus\, die festgelegte Rege
 ln missachten. Aus diesem Grunde hat Grün Berlin im ersten Schritt sehr ein
 schneidende Regeln festgelegt. Leider ist auch davon auszugehen\, dass Grün
  Berlin kurzfristig keinen Änderungsbedarf sieht und aus deren Sicht eine Ü
 berprüfung des Sicherheitskonzeptes frühestens zum Ende der Saison sinnvoll
  ist.\n\n\nSeitens der Vertreter der betroffenen Windsportarten gibt es ver
 schiedene Konzepte\, wie weiter vorgegangen werden soll. Um hier einen mögl
 ichst breiten Konsens zu finden\, wird es in der nächsten Woche ein Treffen
  der Kitelandboarder und der Kitebuggyfahrer geben. Vertreter von anderen W
 indsportarten sind aber auch gerne gesehen.\n\n\nDatum:\nMittwoch\, der 22.
 06.2016 um 20:00\n\nOrt:\n\nNachbarschaftstreff im Schillerkiez\n Mahlower 
 Str. 27 - 12049 Berlin\n\nhttps://www.google.de/maps/place/Nachbarschaftstr
 eff+im+Schillerkiez/@52.4797109\,13.4235936\,15z/data=!4m5!3m4!1s0x0:0xc3ec
 286f0f4146fa!8m2!3d52.4797109!4d13.4235936\n\nKommt zahlreich um gestaltet 
 die Zukunft der Kiter auf dem Tempelhofer Feld mit!\n\nViele Grüße\n Ulli
LOCATION:Mahlower Str. 27\, 12049 Berlin\, Deutschland
GEO:52.4797096;13.4235935
DTEND:20160622T210000Z
CATEGORIES:Berlin,kitebuggy,Kitelandboard,Tempelhofer Feld,Verbot,Grün Berl
 in
END:VEVENT
BEGIN:VEVENT
TRANSP:OPAQUE
UID:event-583@www.drachenforum.net
URL:https://www.drachenforum.net/termine/event/5686-ride-up-%C3%A4tna-peak-
 2020/
DTSTART:20200222T050000Z
DTSTAMP:20200222T050000Z
CREATED:20200222T050000Z
SUMMARY:Ride up Ätna Peak 2020  ✅
DESCRIPTION:Ride up with us Etna Peak 2020 by snowkite ✅\n\nJedes Jahr ein 
 besonderes Projekt durchführen.\n\nNach 2019 zieht es uns wieder zum mystis
 chen Berg\n\n| Ätna/ Etna – auf Sizilien/ Sicily |\n\n| Eckdaten | ✅\n• Sam
 stag: 22.02.20 – Dienstag: 25.02.20\n• Hotel direkt am Spot: http://www.rif
 ugiosapienza.com/\n• Sessionblog 2019 >> Sessionblog [URL:https://snowkite-
 odenwald.com/ride-up-mit-dem-snowkite-auf-den-aetna-mit-dem-explorev1-und-d
 em-peak4/]\n• Video 2019 >> Video [URL:https://www.youtube.com/watch?v=k0RE
 31gqegQ&list=PLhGXT-FPbIFwrEYkspGLk54zkH_6MSfNL&index=7]\n\n| Empfohlene Ki
 tes | ✅\n5. Leine Kites (Single Skins & Openceller)✅\n| ExploreV1 Ozonekite
 s | >> ExploreV1 [URL:https://snowkite-odenwald.com/produkt/ozone-kites-exp
 lore-v1-single-skin-kite-ultralight-kite-only/] ✅\n| Peak4 Flysurfer | >> P
 eak4 [URL:https://snowkite-odenwald.com/produkt/flysurfer-peak-4-single-ski
 n-kite/]✅\n| SubzeroV1 Ozonekites | >> SubzeroV1 [URL:https://snowkite-oden
 wald.com/produkt/ozonekites-subzero-v1/] ✅\n| SubzeroV1 ultralight Ozonekit
 es | >> SubzeroV1 ultralight [URL:https://snowkite-odenwald.com/produkt/ozo
 ne-kites-subzero-v1-ultralight-kite-only/] ✅\n\n| Empfohlene Kitekombinatio
 nen | ✅\n• Kitekombinationen: 4/5/6/7 & 11/12\n• Kitekombinationen: 4/5/6/7
  & 11/12\n\nInfos | ☎ +49 6251 9892843 [URL:tel:+49%206251%209892843] | Mob
 il +49 171 8664292 [URL:tel:+49%20171%208664292] | ✉  \n\nWeitere Infos zur
  Veranstaltung werden bekanntgegeben auf >> snowkite-odenwald.com [URL:http
 s://snowkite-odenwald.com/]   &  Facebookpage [URL:https://www.facebook.com
 /events/1585041401653635/]\n\nBuchung\, Anreise\, und Kiten auf eigene Vera
 ntwortung.\n\nCU Holger
LOCATION:Ätna\, 95031 Adrano\, Catania\, Italien
GEO:37.7510033;14.9934349
DTEND:20200225T200000Z
END:VEVENT
BEGIN:VEVENT
TRANSP:OPAQUE
UID:event-680@www.drachenforum.net
URL:https://www.drachenforum.net/termine/event/5783-gpa-jugendfreizeit-spo/
DTSTART:20220730T060000Z
DTSTAMP:20220730T060000Z
CREATED:20220730T060000Z
SUMMARY:GPA Jugendfreizeit SPO
DESCRIPTION:https://gpa.de/calendar/event/164-gpa-jugendfreizeit-sankt-pete
 r-ording/
LOCATION:St. Peter Ording
DTEND:20220807T070000Z
CATEGORIES:GPA,kitebuggy,SPO,Jugendfreizeit
END:VEVENT
BEGIN:VEVENT
TRANSP:TRANSPARENT
UID:event-681@www.drachenforum.net
URL:https://www.drachenforum.net/termine/event/5784-gpa-kitebuggy-tipps-tri
 cks/
DTSTART;VALUE=DATE:20220731
DTSTAMP:20220731T000000Z
CREATED:20220731T000000Z
SUMMARY:GPA - Kitebuggy Tipps & Tricks
DESCRIPTION:https://gpa.de/calendar/event/169-tipps-und-tricks-f%C3%BCr-reg
 attaeinsteiger-r%C3%B8m%C3%B8/
LOCATION:Sønderstrand\, 6792 Rømø\, Dänemark
GEO:55.098175;8.539566
DTEND;VALUE=DATE:20220801
CATEGORIES:GPA,kitebuggy,römö,Regatta,Race,Tipps,Beginner
END:VEVENT
END:VCALENDAR
